BEGIN:VCALENDAR
VERSION:2.0
PRODID:-//Squarespace Inc/Squarespace 6//v6//EN
BEGIN:VEVENT
UID:5a79378924a69403a46b31b8@squarespace.com
DTSTAMP:20180206T105030Z
DTSTART:20180502T230000Z
DTEND:20180506T070000Z
SUMMARY:BodyTalk Fundamentals Training - Melbourne
GEO:-37.81456;144.95741
LOCATION:Wyndham Hotel Melbourne\, 199 William Street\, Melbourne\, VIC\, 3
 000\, Australia
END:VEVENT
END:VCALENDAR
