BEGIN:VCALENDAR
VERSION:2.0
PRODID:-//Squarespace Inc/Squarespace 6//v6//EN
BEGIN:VEVENT
UID:5a79369824a69403a46b013a@squarespace.com
DTSTAMP:20180206T105135Z
DTSTART:20180314T230000Z
DTEND:20180318T070000Z
SUMMARY:BodyTalk Fundamentals Training - Brisbane
GEO:-27.524146;153.081967
LOCATION:BodyTalk Your Health Wellness Centre\, 40 Carrara Street\, Mount G
 ravatt East\, QLD\, 4122\, Australia
END:VEVENT
END:VCALENDAR
