BEGIN:VCALENDAR
VERSION:2.0
PRODID:-//Squarespace Inc/Squarespace 6//v6//EN
BEGIN:VEVENT
UID:5a79340ac83025531db9e764@squarespace.com
DTSTAMP:20180206T104022Z
DTSTART:20180301T090000Z
DTEND:20180301T110000Z
SUMMARY:BodyTalk Public Talk
GEO:-27.524146;153.081967
LOCATION:BodyTalk Your Health Wellness Centre\, 40 Carrara Street\, Mount G
 ravatt East\, QLD\, 4122\, Australia
END:VEVENT
END:VCALENDAR
